BEGIN:VCALENDAR
VERSION:2.0
PRODID:-//eventon.com NONSGML v1.0//EN
BEGIN:VEVENT
UID:69ecb1586c7c0
DTSTAMP:20260425T121936
DTSTART:20260425T170000Z
DTEND:20260425T235000Z
LOCATION:Tallaght Stadium Tallaght Stadium
SUMMARY:Shamrock Rovers v Shelbourne
DESCRIPTION: Shamrock Rovers v Shelbourne
END:VEVENT
END:VCALENDAR